BEGIN:VCALENDAR
BEGIN:VEVENT
DESCRIPTION:\nMore Information: https://ticketing.coyotetwin.com/websales/pages/TicketSearchCriteria.aspx?evtInfo=555601~638ddfef-9510-4437-b08a-4bbbfe674ed3&\n\nThe fan favorite champions—now joined by Johnny Cage himself—are pitted against one another in the ultimate, no-holds barred, gory battle to defeat the dark rule of Shao Kahn that threatens the very existence of the Earthrealm and its defenders.
DTSTART:20260509T210000Z
DTEND:20260509T225600Z
LOCATION:MASABA Auditorium, 10 E Main Street, Vermillion, SD, 57069
SUMMARY:Mortal Kombat II
UID:555601
DTSTAMP:20260425T122621Z
END:VEVENT
END:VCALENDAR
